BEGIN:VCALENDAR
VERSION:2.0
PRODID:-//Summerland Arts Council - ECPv6.15.17.1//NONSGML v1.0//EN
CALSCALE:GREGORIAN
METHOD:PUBLISH
X-WR-CALNAME:Summerland Arts Council
X-ORIGINAL-URL:https://summerlandarts.com
X-WR-CALDESC:Events for Summerland Arts Council
REFRESH-INTERVAL;VALUE=DURATION:PT1H
X-Robots-Tag:noindex
X-PUBLISHED-TTL:PT1H
BEGIN:VTIMEZONE
TZID:America/Vancouver
BEGIN:DAYLIGHT
TZOFFSETFROM:-0800
TZOFFSETTO:-0700
TZNAME:PDT
DTSTART:20250309T100000
END:DAYLIGHT
BEGIN:STANDARD
TZOFFSETFROM:-0700
TZOFFSETTO:-0800
TZNAME:PST
DTSTART:20251102T090000
END:STANDARD
BEGIN:DAYLIGHT
TZOFFSETFROM:-0800
TZOFFSETTO:-0700
TZNAME:PDT
DTSTART:20260308T100000
END:DAYLIGHT
BEGIN:STANDARD
TZOFFSETFROM:-0700
TZOFFSETTO:-0800
TZNAME:PST
DTSTART:20261101T090000
END:STANDARD
BEGIN:DAYLIGHT
TZOFFSETFROM:-0800
TZOFFSETTO:-0700
TZNAME:PDT
DTSTART:20270314T100000
END:DAYLIGHT
BEGIN:STANDARD
TZOFFSETFROM:-0700
TZOFFSETTO:-0800
TZNAME:PST
DTSTART:20271107T090000
END:STANDARD
END:VTIMEZONE
BEGIN:VEVENT
DTSTART;TZID=America/Vancouver:20260521T123000
DTEND;TZID=America/Vancouver:20260521T140000
DTSTAMP:20260417T071933
CREATED:20260312T222734Z
LAST-MODIFIED:20260312T223450Z
UID:10000943-1779366600-1779372000@summerlandarts.com
SUMMARY:Awesome Arts workshop
DESCRIPTION:Awesome Arts workshops are designed especially for adults with diverse abilities.  $5 per workshop
URL:https://summerlandarts.com/event/awesome-arts-workshop-3/
LOCATION:George Ryga Arts Centre\, 9525 Wharton Street\, Summerland\, British Columbia\, V0H 1Z5\, Canada
ORGANIZER;CN="Summerland Arts Council":MAILTO:admin@summerlandarts.com
END:VEVENT
END:VCALENDAR